BEGIN:VCALENDAR
VERSION:2.0
PRODID:spatie/icalendar-generator
DESCRIPTION:Events from 
X-WR-CALDESC:Events from 
REFRESH-INTERVAL;VALUE=DURATION:PT1440M
X-PUBLISHED-TTL:PT1440M
BEGIN:VTIMEZONE
TZID:Etc/GMT+0
BEGIN:STANDARD
DTSTART:20220907T130000Z
TZOFFSETFROM:+0000
TZOFFSETTO:+0000
END:STANDARD
END:VTIMEZONE
BEGIN:VTIMEZONE
TZID:UTC
BEGIN:STANDARD
DTSTART:20250725T181851Z
TZOFFSETFROM:+0000
TZOFFSETTO:+0000
END:STANDARD
END:VTIMEZONE
BEGIN:VEVENT
UID:1000-17
DTSTAMP:20260421T181851Z
SUMMARY:Stitchy Sundays
LOCATION:Zoom (Virtual)
ORGANIZER;CN=fwegawebmaster:MAILTO:dootsieboo@gmail.com
RRULE:FREQ=WEEKLY;UNTIL=20240526T000000Z
DTSTART;TZID=Etc/GMT+0:20230604T130000
DTEND;TZID=Etc/GMT+0:20230604T150000
X-ALT-DESC;FMTTYPE=TEXT/HTML:
CATEGORIES:Zoom Stitch In,  Stitchy Sunday
URL;VALUE=URI:https://fortworthega.com/mc-events/stitchy-sundays/?mc_id=100
 0
METHOD:PUBLISH
END:VEVENT
END:VCALENDAR