BEGIN:VCALENDAR
VERSION:2.0
PRODID:spatie/icalendar-generator
DESCRIPTION:Events from 
X-WR-CALDESC:Events from 
REFRESH-INTERVAL;VALUE=DURATION:PT1440M
X-PUBLISHED-TTL:PT1440M
BEGIN:VTIMEZONE
TZID:Etc/GMT+0
BEGIN:STANDARD
DTSTART:20221023T093000Z
TZOFFSETFROM:+0000
TZOFFSETTO:+0000
END:STANDARD
END:VTIMEZONE
BEGIN:VTIMEZONE
TZID:UTC
BEGIN:STANDARD
DTSTART:20250726T165703Z
TZOFFSETFROM:+0000
TZOFFSETTO:+0000
END:STANDARD
END:VTIMEZONE
BEGIN:VEVENT
UID:1060-19
DTSTAMP:20260422T165703Z
SUMMARY:Stitch Away Retreat
LOCATION:
ORGANIZER;CN=fwegawebmaster:MAILTO:dootsieboo@gmail.com
DTSTART;TZID=Etc/GMT+0:20230720T093000
DTEND;TZID=Etc/GMT+0:20230723T103000
X-ALT-DESC;FMTTYPE=TEXT/HTML:
CATEGORIES:StitchAway Retreat
URL;VALUE=URI:https://fortworthega.com/mc-events/stitch-away-retreat/
METHOD:PUBLISH
END:VEVENT
END:VCALENDAR