BEGIN:VCALENDAR
VERSION:2.0
PRODID:spatie/icalendar-generator
DESCRIPTION:Events from 
X-WR-CALDESC:Events from 
REFRESH-INTERVAL;VALUE=DURATION:PT1440M
X-PUBLISHED-TTL:PT1440M
BEGIN:VTIMEZONE
TZID:Etc/GMT+0
BEGIN:STANDARD
DTSTART:20240531T183000Z
TZOFFSETFROM:+0000
TZOFFSETTO:+0000
END:STANDARD
END:VTIMEZONE
BEGIN:VTIMEZONE
TZID:UTC
BEGIN:STANDARD
DTSTART:20250726T192519Z
TZOFFSETFROM:+0000
TZOFFSETTO:+0000
END:STANDARD
END:VTIMEZONE
BEGIN:VEVENT
UID:1079-36
DTSTAMP:20260422T192519Z
SUMMARY:February 2025 Board Meeting
LOCATION:Zoom (Virtual)
ORGANIZER;CN=Anna Todd:MAILTO:anna@kinnee.net
DTSTART;TZID=Etc/GMT+0:20250225T183000
DTEND;TZID=Etc/GMT+0:20250225T193000
X-ALT-DESC;FMTTYPE=TEXT/HTML:
CATEGORIES:Board Meeting
URL;VALUE=URI:https://fortworthega.com/mc-events/february-2025-board-meetin
 g/
METHOD:PUBLISH
END:VEVENT
END:VCALENDAR