BEGIN:VCALENDAR
VERSION:2.0
PRODID:spatie/icalendar-generator
DESCRIPTION:Events from 
X-WR-CALDESC:Events from 
REFRESH-INTERVAL;VALUE=DURATION:PT1440M
X-PUBLISHED-TTL:PT1440M
BEGIN:VTIMEZONE
TZID:Etc/GMT+0
BEGIN:STANDARD
DTSTART:20251209T093000Z
TZOFFSETFROM:+0000
TZOFFSETTO:+0000
END:STANDARD
END:VTIMEZONE
BEGIN:VTIMEZONE
TZID:UTC
BEGIN:STANDARD
DTSTART:20250723T131703Z
TZOFFSETFROM:+0000
TZOFFSETTO:+0000
END:STANDARD
END:VTIMEZONE
BEGIN:VEVENT
UID:1129-63
DTSTAMP:20260419T131703Z
SUMMARY:Chapter Monthly General Meeting
LOCATION:UTA Pickard Hall 411 S. Nedderman\, Room 540  Arlington TX 76019
ORGANIZER;CN=Anna Todd:MAILTO:anna@kinnee.net
RRULE:FREQ=MONTHLY;BYDAY=1SA;UNTIL=20310104T000000Z
DTSTART;TZID=Etc/GMT+0:20260905T093000
DTEND;TZID=Etc/GMT+0:20260905T113000
X-ALT-DESC;FMTTYPE=TEXT/HTML:
CATEGORIES:General
URL;VALUE=URI:https://fortworthega.com/mc-events/chapter-monthly-general-me
 eting/?mc_id=1129
METHOD:PUBLISH
END:VEVENT
END:VCALENDAR