BEGIN:VCALENDAR
VERSION:2.0
PRODID:spatie/icalendar-generator
DESCRIPTION:Events from 
X-WR-CALDESC:Events from 
REFRESH-INTERVAL;VALUE=DURATION:PT1440M
X-PUBLISHED-TTL:PT1440M
BEGIN:VTIMEZONE
TZID:Etc/GMT+0
BEGIN:STANDARD
DTSTART:20240322T100000Z
TZOFFSETFROM:+0000
TZOFFSETTO:+0000
END:STANDARD
END:VTIMEZONE
BEGIN:VTIMEZONE
TZID:UTC
BEGIN:STANDARD
DTSTART:20250723T192106Z
TZOFFSETFROM:+0000
TZOFFSETTO:+0000
END:STANDARD
END:VTIMEZONE
BEGIN:VEVENT
UID:1182-64
DTSTAMP:20260419T192106Z
SUMMARY:Chapter Monthly Stitch-In
LOCATION:The Stitch Niche (Classroom) 2425 W Arkansas Ln Ste C  Pantego TX 
 76013
ORGANIZER;CN=Anna Todd:MAILTO:anna@kinnee.net
RRULE:FREQ=MONTHLY;BYDAY=3TU;UNTIL=20260103T000000Z
DTSTART;TZID=Etc/GMT+0:20241217T100000
DTEND;TZID=Etc/GMT+0:20241217T160000
X-ALT-DESC;FMTTYPE=TEXT/HTML:
CATEGORIES:Stitch-In
URL;VALUE=URI:https://fortworthega.com/mc-events/chapter-monthly-stitch-in/
 ?mc_id=1182
METHOD:PUBLISH
END:VEVENT
END:VCALENDAR