BEGIN:VCALENDAR
VERSION:2.0
PRODID:spatie/icalendar-generator
DESCRIPTION:Events from 
X-WR-CALDESC:Events from 
REFRESH-INTERVAL;VALUE=DURATION:PT1440M
X-PUBLISHED-TTL:PT1440M
BEGIN:VTIMEZONE
TZID:Etc/GMT+0
BEGIN:STANDARD
DTSTART:20240507T093000Z
TZOFFSETFROM:+0000
TZOFFSETTO:+0000
END:STANDARD
END:VTIMEZONE
BEGIN:VTIMEZONE
TZID:UTC
BEGIN:STANDARD
DTSTART:20250726T115646Z
TZOFFSETFROM:+0000
TZOFFSETTO:+0000
END:STANDARD
END:VTIMEZONE
BEGIN:VEVENT
UID:1204-66
DTSTAMP:20260422T115646Z
SUMMARY:Feb 2025 General Meeting &amp;amp\; Public Stash Sale
LOCATION:La Casita Mobile Home Park Office/Clubhouse 7800 Mockingbird Lane 
  North Richland Hills Texas 76180
ORGANIZER;CN=Anna Todd:MAILTO:anna@kinnee.net
DTSTART;TZID=Etc/GMT+0:20250201T093000
DTEND;TZID=Etc/GMT+0:20250201T103000
X-ALT-DESC;FMTTYPE=TEXT/HTML:This meeting and stash sale will NOT be at our
  regular location. Please note the location for this event.
CATEGORIES:General,  Stash Sale
URL;VALUE=URI:https://fortworthega.com/mc-events/feb-2025-general-meeting-p
 ublic-stash-sale/
METHOD:PUBLISH
END:VEVENT
END:VCALENDAR