BEGIN:VCALENDAR
VERSION:2.0
PRODID:spatie/icalendar-generator
DESCRIPTION:Events from 
X-WR-CALDESC:Events from 
REFRESH-INTERVAL;VALUE=DURATION:PT1440M
X-PUBLISHED-TTL:PT1440M
BEGIN:VTIMEZONE
TZID:Etc/GMT+0
BEGIN:STANDARD
DTSTART:20220524T093000Z
TZOFFSETFROM:+0000
TZOFFSETTO:+0000
END:STANDARD
END:VTIMEZONE
BEGIN:VTIMEZONE
TZID:UTC
BEGIN:STANDARD
DTSTART:20250724T075018Z
TZOFFSETFROM:+0000
TZOFFSETTO:+0000
END:STANDARD
END:VTIMEZONE
BEGIN:VEVENT
UID:939-9
DTSTAMP:20260420T075018Z
SUMMARY:March Meeting/Stash Sale
LOCATION:Junior League of Arlington 4002 W. Pioneer Pkwy  Arlington TX 7601
 3
ORGANIZER;CN=fwegawebmaster:MAILTO:dootsieboo@gmail.com
DTSTART;TZID=Etc/GMT+0:20230218T093000
DTEND;TZID=Etc/GMT+0:20230218T130000
X-ALT-DESC;FMTTYPE=TEXT/HTML:Join us at 9:30 am for our general meeting. At
  10:30 am\, we'll break in order to allow our member sellers to set up the
 ir tables for the Stash Sale. The Stash Sale will begin at 11 am and end a
 t 1 pm. Clean up is from 1 pm to 2 pm. Tables are available&amp;hellip\;
CATEGORIES:General,  Special Events,  Stash Sale
URL;VALUE=URI:https://fortworthega.com/mc-events/march-meeting-stash-sale/
METHOD:PUBLISH
END:VEVENT
END:VCALENDAR