BEGIN:VCALENDAR
VERSION:2.0
PRODID:spatie/icalendar-generator
DESCRIPTION:Events from 
X-WR-CALDESC:Events from 
REFRESH-INTERVAL;VALUE=DURATION:PT1440M
X-PUBLISHED-TTL:PT1440M
BEGIN:VTIMEZONE
TZID:Etc/GMT+0
BEGIN:STANDARD
DTSTART:20220628T080000Z
TZOFFSETFROM:+0000
TZOFFSETTO:+0000
END:STANDARD
END:VTIMEZONE
BEGIN:VTIMEZONE
TZID:UTC
BEGIN:STANDARD
DTSTART:20250724T163509Z
TZOFFSETFROM:+0000
TZOFFSETTO:+0000
END:STANDARD
END:VTIMEZONE
BEGIN:VEVENT
UID:940-10
DTSTAMP:20260420T163509Z
SUMMARY:Stitch In Public Day
LOCATION:Brewed 801 W. Magnolia Avenue  Fort Worth TX 76104
ORGANIZER;CN=fwegawebmaster:MAILTO:dootsieboo@gmail.com
DTSTART;TZID=Etc/GMT+0:20230325T080000
DTEND;TZID=Etc/GMT+0:20230325T100000
X-ALT-DESC;FMTTYPE=TEXT/HTML:
CATEGORIES:Stitch In Public Day
URL;VALUE=URI:https://fortworthega.com/mc-events/stitch-in-public-day-2/
METHOD:PUBLISH
END:VEVENT
END:VCALENDAR