BEGIN:VCALENDAR
VERSION:2.0
PRODID:spatie/icalendar-generator
DESCRIPTION:Events from 
X-WR-CALDESC:Events from 
REFRESH-INTERVAL;VALUE=DURATION:PT1440M
X-PUBLISHED-TTL:PT1440M
BEGIN:VTIMEZONE
TZID:Etc/GMT+0
BEGIN:STANDARD
DTSTART:20220705T093000Z
TZOFFSETFROM:+0000
TZOFFSETTO:+0000
END:STANDARD
END:VTIMEZONE
BEGIN:VTIMEZONE
TZID:UTC
BEGIN:STANDARD
DTSTART:20250724T200945Z
TZOFFSETFROM:+0000
TZOFFSETTO:+0000
END:STANDARD
END:VTIMEZONE
BEGIN:VEVENT
UID:941-11
DTSTAMP:20260420T200945Z
SUMMARY:April General Meeting
LOCATION:Junior League of Arlington 4002 W. Pioneer Pkwy  Arlington TX 7601
 3
ORGANIZER;CN=fwegawebmaster:MAILTO:dootsieboo@gmail.com
DTSTART;TZID=Etc/GMT+0:20230401T093000
DTEND;TZID=Etc/GMT+0:20230401T103000
X-ALT-DESC;FMTTYPE=TEXT/HTML:
CATEGORIES:General
URL;VALUE=URI:https://fortworthega.com/mc-events/april-general-meeting/
METHOD:PUBLISH
END:VEVENT
END:VCALENDAR