BEGIN:VCALENDAR
VERSION:2.0
PRODID:spatie/icalendar-generator
DESCRIPTION:Events from 
X-WR-CALDESC:Events from 
REFRESH-INTERVAL;VALUE=DURATION:PT1440M
X-PUBLISHED-TTL:PT1440M
BEGIN:VTIMEZONE
TZID:Etc/GMT+0
BEGIN:STANDARD
DTSTART:20220825T183000Z
TZOFFSETFROM:+0000
TZOFFSETTO:+0000
END:STANDARD
END:VTIMEZONE
BEGIN:VTIMEZONE
TZID:UTC
BEGIN:STANDARD
DTSTART:20250725T124333Z
TZOFFSETFROM:+0000
TZOFFSETTO:+0000
END:STANDARD
END:VTIMEZONE
BEGIN:VEVENT
UID:1058-16
DTSTAMP:20260421T124333Z
SUMMARY:Fort Worth EGA Board Meeting
LOCATION:
ORGANIZER;CN=fwegawebmaster:MAILTO:dootsieboo@gmail.com
DTSTART;TZID=Etc/GMT+0:20230522T183000
DTEND;TZID=Etc/GMT+0:20230522T193000
X-ALT-DESC;FMTTYPE=TEXT/HTML:
CATEGORIES:Board Meeting
URL;VALUE=URI:https://fortworthega.com/mc-events/fort-worth-ega-board-meeti
 ng/
METHOD:PUBLISH
END:VEVENT
END:VCALENDAR