BEGIN:VCALENDAR
VERSION:2.0
PRODID:spatie/icalendar-generator
DESCRIPTION:Events from 
X-WR-CALDESC:Events from 
REFRESH-INTERVAL;VALUE=DURATION:PT1440M
X-PUBLISHED-TTL:PT1440M
BEGIN:VTIMEZONE
TZID:Etc/GMT+0
BEGIN:STANDARD
DTSTART:20221004T103000Z
TZOFFSETFROM:+0000
TZOFFSETTO:+0000
END:STANDARD
END:VTIMEZONE
BEGIN:VTIMEZONE
TZID:UTC
BEGIN:STANDARD
DTSTART:20250726T063909Z
TZOFFSETFROM:+0000
TZOFFSETTO:+0000
END:STANDARD
END:VTIMEZONE
BEGIN:VEVENT
UID:1062-20
DTSTAMP:20260422T063909Z
SUMMARY:July Meeting
LOCATION:Arlington Public Library - Southwest Branch 3311 SW Green Oaks Blv
 d  Arlington TX 76017
ORGANIZER;CN=fwegawebmaster:MAILTO:dootsieboo@gmail.com
DTSTART;TZID=Etc/GMT+0:20230701T103000
DTEND;TZID=Etc/GMT+0:20230701T130000
X-ALT-DESC;FMTTYPE=TEXT/HTML:
CATEGORIES:General
URL;VALUE=URI:https://fortworthega.com/mc-events/july-meeting/
METHOD:PUBLISH
END:VEVENT
END:VCALENDAR