BEGIN:VCALENDAR
VERSION:2.0
PRODID:spatie/icalendar-generator
DESCRIPTION:Events from 
X-WR-CALDESC:Events from 
REFRESH-INTERVAL;VALUE=DURATION:PT1440M
X-PUBLISHED-TTL:PT1440M
BEGIN:VTIMEZONE
TZID:Etc/GMT+0
BEGIN:STANDARD
DTSTART:20221021T093000Z
TZOFFSETFROM:+0000
TZOFFSETTO:+0000
END:STANDARD
END:VTIMEZONE
BEGIN:VTIMEZONE
TZID:UTC
BEGIN:STANDARD
DTSTART:20250726T154650Z
TZOFFSETFROM:+0000
TZOFFSETTO:+0000
END:STANDARD
END:VTIMEZONE
BEGIN:VEVENT
UID:1063-21
DTSTAMP:20260422T154650Z
SUMMARY:July Stitch-In
LOCATION:North Richland Hills Library 9015 Grand Ave  North Richland Hills 
 Texas 76180
ORGANIZER;CN=fwegawebmaster:MAILTO:dootsieboo@gmail.com
DTSTART;TZID=Etc/GMT+0:20230718T093000
DTEND;TZID=Etc/GMT+0:20230718T130000
X-ALT-DESC;FMTTYPE=TEXT/HTML:
CATEGORIES:Stitch-In
URL;VALUE=URI:https://fortworthega.com/mc-events/july-stitch-in/
METHOD:PUBLISH
END:VEVENT
END:VCALENDAR