BEGIN:VCALENDAR
VERSION:2.0
PRODID:spatie/icalendar-generator
DESCRIPTION:Events from 
X-WR-CALDESC:Events from 
REFRESH-INTERVAL;VALUE=DURATION:PT1440M
X-PUBLISHED-TTL:PT1440M
BEGIN:VTIMEZONE
TZID:Etc/GMT+0
BEGIN:STANDARD
DTSTART:20220412T093000Z
TZOFFSETFROM:+0000
TZOFFSETTO:+0000
END:STANDARD
END:VTIMEZONE
BEGIN:VTIMEZONE
TZID:UTC
BEGIN:STANDARD
DTSTART:20250723T191733Z
TZOFFSETFROM:+0000
TZOFFSETTO:+0000
END:STANDARD
END:VTIMEZONE
BEGIN:VEVENT
UID:2-2
DTSTAMP:20260419T191733Z
SUMMARY:General Meeting - January
LOCATION:La Casita Mobile Home Park Office/Clubhouse 7800 Mockingbird Lane 
  North Richland Hills Texas 76180
ORGANIZER;CN=fwegawebmaster:MAILTO:dootsieboo@gmail.com
DTSTART;TZID=Etc/GMT+0:20230107T093000
DTEND;TZID=Etc/GMT+0:20230107T113000
X-ALT-DESC;FMTTYPE=TEXT/HTML:
CATEGORIES:General,  Girl Scout Program,  Stitch-In
URL;VALUE=URI:https://fortworthega.com/mc-events/general-meeting-january/
METHOD:PUBLISH
END:VEVENT
END:VCALENDAR