BEGIN:VCALENDAR
VERSION:2.0
PRODID:spatie/icalendar-generator
DESCRIPTION:Events from 
X-WR-CALDESC:Events from 
REFRESH-INTERVAL;VALUE=DURATION:PT1440M
X-PUBLISHED-TTL:PT1440M
BEGIN:VTIMEZONE
TZID:Etc/GMT+0
BEGIN:STANDARD
DTSTART:20220405T200000Z
TZOFFSETFROM:+0000
TZOFFSETTO:+0000
END:STANDARD
END:VTIMEZONE
BEGIN:VTIMEZONE
TZID:UTC
BEGIN:STANDARD
DTSTART:20250723T162901Z
TZOFFSETFROM:+0000
TZOFFSETTO:+0000
END:STANDARD
END:VTIMEZONE
BEGIN:VEVENT
UID:565-6
DTSTAMP:20260419T162901Z
SUMMARY:New Year's Stitch'in Eve Party (Zoom)
LOCATION:Zoom (Virtual)
ORGANIZER;CN=fwegawebmaster:MAILTO:dootsieboo@gmail.com
DTSTART;TZID=Etc/GMT+0:20221231T200000
DTEND;TZID=Etc/GMT+0:20230101T000500
X-ALT-DESC;FMTTYPE=TEXT/HTML:Join us on Zoom for our annual New Years Stitc
 h'in Eve party! It's the safest way to drink (or not) and celebrate: at ho
 me...on Zoom...with your stitchy friends!
CATEGORIES:Special Events
URL;VALUE=URI:https://fortworthega.com/mc-events/new-years-stitchin-eve-par
 ty-zoom/
METHOD:PUBLISH
END:VEVENT
END:VCALENDAR