BEGIN:VCALENDAR
VERSION:2.0
PRODID:spatie/icalendar-generator
DESCRIPTION:Events from 
X-WR-CALDESC:Events from 
REFRESH-INTERVAL;VALUE=DURATION:PT1440M
X-PUBLISHED-TTL:PT1440M
BEGIN:VTIMEZONE
TZID:Etc/GMT+0
BEGIN:STANDARD
DTSTART:20220510T093000Z
TZOFFSETFROM:+0000
TZOFFSETTO:+0000
END:STANDARD
END:VTIMEZONE
BEGIN:VTIMEZONE
TZID:UTC
BEGIN:STANDARD
DTSTART:20250724T033430Z
TZOFFSETFROM:+0000
TZOFFSETTO:+0000
END:STANDARD
END:VTIMEZONE
BEGIN:VEVENT
UID:937-7
DTSTAMP:20260420T033430Z
SUMMARY:February General Meeting
LOCATION:La Casita Mobile Home Park Office/Clubhouse 7800 Mockingbird Lane 
  North Richland Hills Texas 76180
ORGANIZER;CN=fwegawebmaster:MAILTO:dootsieboo@gmail.com
DTSTART;TZID=Etc/GMT+0:20230204T093000
DTEND;TZID=Etc/GMT+0:20230204T103000
X-ALT-DESC;FMTTYPE=TEXT/HTML:La Casita Mobile Home Park Clubhouse/Office
CATEGORIES:General
URL;VALUE=URI:https://fortworthega.com/mc-events/february-general-meeting/
METHOD:PUBLISH
END:VEVENT
END:VCALENDAR