BEGIN:VCALENDAR
VERSION:2.0
PRODID:spatie/icalendar-generator
DESCRIPTION:Events from 
X-WR-CALDESC:Events from 
REFRESH-INTERVAL;VALUE=DURATION:PT1440M
X-PUBLISHED-TTL:PT1440M
BEGIN:VTIMEZONE
TZID:Etc/GMT+0
BEGIN:STANDARD
DTSTART:20220524T090000Z
TZOFFSETFROM:+0000
TZOFFSETTO:+0000
END:STANDARD
END:VTIMEZONE
BEGIN:VTIMEZONE
TZID:UTC
BEGIN:STANDARD
DTSTART:20250724T075634Z
TZOFFSETFROM:+0000
TZOFFSETTO:+0000
END:STANDARD
END:VTIMEZONE
BEGIN:VEVENT
UID:938-8
DTSTAMP:20260420T075634Z
SUMMARY:Stitch in Public Day
LOCATION:Grounds &amp;amp\; Gold Co.  4130 S. Bowen Rd  Arlington TX 76016
ORGANIZER;CN=fwegawebmaster:MAILTO:dootsieboo@gmail.com
DTSTART;TZID=Etc/GMT+0:20230218T090000
DTEND;TZID=Etc/GMT+0:20230218T120000
X-ALT-DESC;FMTTYPE=TEXT/HTML:Bring what you'd like to stitch and hang out w
 ith us! The coffee and treats at this location are wonderful.
CATEGORIES:Stitch In Public Day
URL;VALUE=URI:https://fortworthega.com/mc-events/stitch-in-public-day/
METHOD:PUBLISH
END:VEVENT
END:VCALENDAR