BEGIN:VCALENDAR
VERSION:2.0
PRODID:spatie/icalendar-generator
DESCRIPTION:Events from 
X-WR-CALDESC:Events from 
REFRESH-INTERVAL;VALUE=DURATION:PT1440M
X-PUBLISHED-TTL:PT1440M
BEGIN:VTIMEZONE
TZID:Etc/GMT+0
BEGIN:STANDARD
DTSTART:20220717T180000Z
TZOFFSETFROM:+0000
TZOFFSETTO:+0000
END:STANDARD
END:VTIMEZONE
BEGIN:VTIMEZONE
TZID:UTC
BEGIN:STANDARD
DTSTART:20250725T023527Z
TZOFFSETFROM:+0000
TZOFFSETTO:+0000
END:STANDARD
END:VTIMEZONE
BEGIN:VEVENT
UID:943-13
DTSTAMP:20260421T023527Z
SUMMARY:Stitch In Public Day
LOCATION:Avoca Coffee Roasters 1311 W. Magnolia Avenue  Fort Worth Texas 76
 104
ORGANIZER;CN=fwegawebmaster:MAILTO:dootsieboo@gmail.com
DTSTART;TZID=Etc/GMT+0:20230413T180000
DTEND;TZID=Etc/GMT+0:20230413T200000
X-ALT-DESC;FMTTYPE=TEXT/HTML:
CATEGORIES:Stitch In Public Day
URL;VALUE=URI:https://fortworthega.com/mc-events/stitch-in-public-day-3/
METHOD:PUBLISH
END:VEVENT
END:VCALENDAR